BEGIN:VCALENDAR
VERSION:2.0
PRODID:-//Plone.org//NONSGML plone.app.event//EN
X-WR-TIMEZONE:Europe/Madrid
BEGIN:VEVENT
SUMMARY:Jornades monogràfiques del nacionalisme musical
DTSTART;TZID=Europe/Madrid;VALUE=DATE-TIME:20030329T000000
DTEND;TZID=Europe/Madrid;VALUE=DATE-TIME:20030329T010000
DTSTAMP;VALUE=DATE-TIME:20260425T133446Z
UID:4883aea4c71a9f893520ca34208df5f0
CREATED;VALUE=DATE-TIME:20030329T000000Z
DESCRIPTION:29 i 30 de març
URL:https://www.canetdemar.cat/document.php?id=255
END:VEVENT
END:VCALENDAR