BEGIN:VCALENDAR
VERSION:2.0
PRODID:-//Plone.org//NONSGML plone.app.event//EN
X-WR-TIMEZONE:Europe/Madrid
BEGIN:VEVENT
SUMMARY:Recepció delegació xinesa de Tai'an - Província de Shandong
DTSTART;TZID=Europe/Madrid;VALUE=DATE-TIME:20240418T110000
DTEND;TZID=Europe/Madrid;VALUE=DATE-TIME:20240418T120000
DTSTAMP;VALUE=DATE-TIME:20260424T202954Z
UID:66998ca34c49c1ea81c5198151b9336c
CREATED;VALUE=DATE-TIME:20240418T000000Z
CATEGORIES:Agenda institucional
LOCATION:Sala annexa Alcaldia
URL:https://www.canetdemar.cat/document.php?id=25498
END:VEVENT
END:VCALENDAR