BEGIN:VCALENDAR
VERSION:2.0
PRODID:-//Plone.org//NONSGML plone.app.event//EN
X-WR-TIMEZONE:Europe/Madrid
BEGIN:VEVENT
SUMMARY:Reunió amb una veïna de Canet
DTSTART;TZID=Europe/Madrid;VALUE=DATE-TIME:20240405T093000
DTEND;TZID=Europe/Madrid;VALUE=DATE-TIME:20240405T103000
DTSTAMP;VALUE=DATE-TIME:20260422T222520Z
UID:d92f8a8397e2012186c2e84230c22f60
CREATED;VALUE=DATE-TIME:20240405T000000Z
CATEGORIES:Agenda institucional
URL:https://www.canetdemar.cat/document.php?id=25424
END:VEVENT
END:VCALENDAR