BEGIN:VCALENDAR
VERSION:2.0
PRODID:-//Plone.org//NONSGML plone.app.event//EN
X-WR-TIMEZONE:Europe/Madrid
BEGIN:VEVENT
SUMMARY:L'hora del conte: La llegenda de Sant Jordi
DTSTART;TZID=Europe/Madrid;VALUE=DATE-TIME:20061014T120000
DTEND;TZID=Europe/Madrid;VALUE=DATE-TIME:20061014T130000
DTSTAMP;VALUE=DATE-TIME:20260426T032009Z
UID:703958935903c91a163537cf110e3a99
CREATED;VALUE=DATE-TIME:20061014T000000Z
CATEGORIES:Infantils
LOCATION:Biblioteca
ORGANIZER:CORRELLENGUA 2006
DESCRIPTION:A càrrec de Cristina Kristinoshkai
URL:https://www.canetdemar.cat/document.php?id=2541
END:VEVENT
END:VCALENDAR