BEGIN:VCALENDAR
VERSION:2.0
PRODID:-//Plone.org//NONSGML plone.app.event//EN
X-WR-TIMEZONE:Europe/Madrid
BEGIN:VEVENT
SUMMARY:I Triatló de muntanya Vila de Canet
DTSTART;TZID=Europe/Madrid;VALUE=DATE-TIME:20060924T100000
DTEND;TZID=Europe/Madrid;VALUE=DATE-TIME:20060924T110000
DTSTAMP;VALUE=DATE-TIME:20260422T092630Z
UID:10a7e29b8f20bcb20f5c8b418bcd62a9
CREATED;VALUE=DATE-TIME:20060924T000000Z
CATEGORIES:Esports
LOCATION:Passeig Marítim
ORGANIZER:Oficina de Turisme
URL:https://www.canetdemar.cat/document.php?id=2537
END:VEVENT
END:VCALENDAR