BEGIN:VCALENDAR
VERSION:2.0
PRODID:-//Plone.org//NONSGML plone.app.event//EN
X-WR-TIMEZONE:Europe/Madrid
BEGIN:VEVENT
SUMMARY:Visita de la Síndica de Greuges
DTSTART;TZID=Europe/Madrid;VALUE=DATE-TIME:20240411T090000
DTEND;TZID=Europe/Madrid;VALUE=DATE-TIME:20240411T100000
DTSTAMP;VALUE=DATE-TIME:20260423T201458Z
UID:a143eb04f51b21bfbc1753b756c5634d
CREATED;VALUE=DATE-TIME:20240411T000000Z
LOCATION:Centre Cívic i Cultural Vil·la Flora, riera Gavarra, s/n
COMMENT:Durada: de 9.00 a 14.30 hores
URL:https://www.canetdemar.cat/document.php?id=25355
END:VEVENT
END:VCALENDAR