BEGIN:VCALENDAR
VERSION:2.0
PRODID:-//Plone.org//NONSGML plone.app.event//EN
X-WR-TIMEZONE:Europe/Madrid
BEGIN:VEVENT
SUMMARY:No estic sola d'Agnès Fabregà
DTSTART;TZID=Europe/Madrid;VALUE=DATE-TIME:20240412T180000
DTEND;TZID=Europe/Madrid;VALUE=DATE-TIME:20240412T190000
DTSTAMP;VALUE=DATE-TIME:20260424T083727Z
UID:d7787667fa23255cb0276cd208794f34
CREATED;VALUE=DATE-TIME:20240412T000000Z
CATEGORIES:Infantils
LOCATION:Biblioteca P. Gual i Pujadas
ORGANIZER:Biblioteca P. Gual i Pujadas
COMMENT:Preu: Gratuït
DESCRIPTION:Presentació del llibre + activitat familiar
URL:https://www.canetdemar.cat/document.php?id=25347
END:VEVENT
END:VCALENDAR