BEGIN:VCALENDAR
VERSION:2.0
PRODID:-//Plone.org//NONSGML plone.app.event//EN
X-WR-TIMEZONE:Europe/Madrid
BEGIN:VEVENT
SUMMARY:Nit de teatre
DTSTART;TZID=Europe/Madrid;VALUE=DATE-TIME:20060920T191500
DTEND;TZID=Europe/Madrid;VALUE=DATE-TIME:20060920T201500
DTSTAMP;VALUE=DATE-TIME:20260425T010412Z
UID:95d421f46b6e9f9cc70200c8f957f883
CREATED;VALUE=DATE-TIME:20060920T000000Z
LOCATION:Teatre Borràs de Barcelona
ORGANIZER:El Puntdi
DESCRIPTION:Al menos no es navidad
URL:https://www.canetdemar.cat/document.php?id=2526
END:VEVENT
END:VCALENDAR