BEGIN:VCALENDAR
VERSION:2.0
PRODID:-//Plone.org//NONSGML plone.app.event//EN
X-WR-TIMEZONE:Europe/Madrid
BEGIN:VEVENT
SUMMARY:Acte de jubilació d'un agent de Policia
DTSTART;TZID=Europe/Madrid;VALUE=DATE-TIME:20240321T123000
DTEND;TZID=Europe/Madrid;VALUE=DATE-TIME:20240321T133000
DTSTAMP;VALUE=DATE-TIME:20260420T020431Z
UID:3a704c54acc888d8bef0343bcad59f61
CREATED;VALUE=DATE-TIME:20240321T000000Z
CATEGORIES:Agenda institucional
LOCATION:Sala de plens
URL:https://www.canetdemar.cat/document.php?id=25173
END:VEVENT
END:VCALENDAR