BEGIN:VCALENDAR
VERSION:2.0
PRODID:-//Plone.org//NONSGML plone.app.event//EN
X-WR-TIMEZONE:Europe/Madrid
BEGIN:VEVENT
SUMMARY:Entrevista alumnes INS Lluís Domènech i Montaner
DTSTART;TZID=Europe/Madrid;VALUE=DATE-TIME:20240320T103000
DTEND;TZID=Europe/Madrid;VALUE=DATE-TIME:20240320T113000
DTSTAMP;VALUE=DATE-TIME:20260420T083706Z
UID:2718154391aa77c2effad53681a4ead0
CREATED;VALUE=DATE-TIME:20240320T000000Z
CATEGORIES:Agenda institucional
LOCATION:Despatx de l'alcaldia
URL:https://www.canetdemar.cat/document.php?id=25157
END:VEVENT
END:VCALENDAR