BEGIN:VCALENDAR
VERSION:2.0
PRODID:-//Plone.org//NONSGML plone.app.event//EN
X-WR-TIMEZONE:Europe/Madrid
BEGIN:VEVENT
SUMMARY:Trobada amb Ambaixadors del Maresme - Consorci de Turisme
DTSTART;TZID=Europe/Madrid;VALUE=DATE-TIME:20240320T113000
DTEND;TZID=Europe/Madrid;VALUE=DATE-TIME:20240320T123000
DTSTAMP;VALUE=DATE-TIME:20260420T003411Z
UID:c3bab85ec82ba16ca63256227842b583
CREATED;VALUE=DATE-TIME:20240320T000000Z
CATEGORIES:Agenda institucional
LOCATION:Sala Odèon del TMC
URL:https://www.canetdemar.cat/document.php?id=25139
END:VEVENT
END:VCALENDAR