BEGIN:VCALENDAR
VERSION:2.0
PRODID:-//Plone.org//NONSGML plone.app.event//EN
X-WR-TIMEZONE:Europe/Madrid
BEGIN:VEVENT
SUMMARY:Reunió amb el regidor d'Esports
DTSTART;TZID=Europe/Madrid;VALUE=DATE-TIME:20240318T133000
DTEND;TZID=Europe/Madrid;VALUE=DATE-TIME:20240318T143000
DTSTAMP;VALUE=DATE-TIME:20260423T235135Z
UID:e847aa1913fd4079c4c43a0bc1c5de7a
CREATED;VALUE=DATE-TIME:20240318T000000Z
CATEGORIES:Agenda institucional
LOCATION:Despatx de l'alcaldia
URL:https://www.canetdemar.cat/document.php?id=25138
END:VEVENT
END:VCALENDAR