BEGIN:VCALENDAR
VERSION:2.0
PRODID:-//Plone.org//NONSGML plone.app.event//EN
X-WR-TIMEZONE:Europe/Madrid
BEGIN:VEVENT
SUMMARY:Assistència al V Campionat escolar d'atletisme
DTSTART;TZID=Europe/Madrid;VALUE=DATE-TIME:20240316T110000
DTEND;TZID=Europe/Madrid;VALUE=DATE-TIME:20240316T120000
DTSTAMP;VALUE=DATE-TIME:20260421T210707Z
UID:af16d61830d153fa71d0f8403a4cd313
CREATED;VALUE=DATE-TIME:20240316T000000Z
CATEGORIES:Agenda institucional
LOCATION:Pistes d'atletisme
URL:https://www.canetdemar.cat/document.php?id=25130
END:VEVENT
END:VCALENDAR