BEGIN:VCALENDAR
VERSION:2.0
PRODID:-//Plone.org//NONSGML plone.app.event//EN
X-WR-TIMEZONE:Europe/Madrid
BEGIN:VEVENT
SUMMARY:Entrevista programa 'Els 4 Cantons' valoració PAM
DTSTART;TZID=Europe/Madrid;VALUE=DATE-TIME:20240311T110000
DTEND;TZID=Europe/Madrid;VALUE=DATE-TIME:20240311T120000
DTSTAMP;VALUE=DATE-TIME:20260425T192540Z
UID:2afbebf762e067902cd60253cf03fada
CREATED;VALUE=DATE-TIME:20240311T000000Z
CATEGORIES:Agenda institucional
LOCATION:Estudis de Ràdio Canet
URL:https://www.canetdemar.cat/document.php?id=25100
END:VEVENT
END:VCALENDAR