BEGIN:VCALENDAR
VERSION:2.0
PRODID:-//Plone.org//NONSGML plone.app.event//EN
X-WR-TIMEZONE:Europe/Madrid
BEGIN:VEVENT
SUMMARY:Proclamació de la Pubilla i de l'Hereu del Maresme 2003
DTSTART;TZID=Europe/Madrid;VALUE=DATE-TIME:20030329T210000
DTEND;TZID=Europe/Madrid;VALUE=DATE-TIME:20030329T220000
DTSTAMP;VALUE=DATE-TIME:20260425T151513Z
UID:5e565ea371f5840a8530cd54cac4abe0
CREATED;VALUE=DATE-TIME:20030329T000000Z
URL:https://www.canetdemar.cat/document.php?id=251
END:VEVENT
END:VCALENDAR