BEGIN:VCALENDAR
VERSION:2.0
PRODID:-//Plone.org//NONSGML plone.app.event//EN
X-WR-TIMEZONE:Europe/Madrid
BEGIN:VEVENT
SUMMARY:Reunió amb representants de la comunitat de Veïns d'un edifici de la Rda. Anselm Clavé
DTSTART;TZID=Europe/Madrid;VALUE=DATE-TIME:20240227T110000
DTEND;TZID=Europe/Madrid;VALUE=DATE-TIME:20240227T120000
DTSTAMP;VALUE=DATE-TIME:20260426T051308Z
UID:affb579d4ac1e4f8ed8c672b0b28b0ba
CREATED;VALUE=DATE-TIME:20240227T000000Z
CATEGORIES:Agenda institucional
LOCATION:Sala annexa Alcaldia
URL:https://www.canetdemar.cat/document.php?id=25067
END:VEVENT
END:VCALENDAR