BEGIN:VCALENDAR
VERSION:2.0
PRODID:-//Plone.org//NONSGML plone.app.event//EN
X-WR-TIMEZONE:Europe/Madrid
BEGIN:VEVENT
SUMMARY:Dones i música: Avalon
DTSTART;TZID=Europe/Madrid;VALUE=DATE-TIME:20240303T190000
DTEND;TZID=Europe/Madrid;VALUE=DATE-TIME:20240303T200000
DTSTAMP;VALUE=DATE-TIME:20260425T000424Z
UID:f2eb172ba67e865b587cacda2bf36ef6
CREATED;VALUE=DATE-TIME:20240303T000000Z
CATEGORIES:Música
LOCATION:TMC - Sala Odèon
ORGANIZER:Associació de jubilats de Canet de Mar
DESCRIPTION:ACTES 8M a CANET
URL:https://www.canetdemar.cat/document.php?id=25041
END:VEVENT
END:VCALENDAR