BEGIN:VCALENDAR
VERSION:2.0
PRODID:-//Plone.org//NONSGML plone.app.event//EN
X-WR-TIMEZONE:Europe/Madrid
BEGIN:VEVENT
SUMMARY:Portes obertes a la Casa museu Lluís Domènech i Montaner
DTSTART;TZID=Europe/Madrid;VALUE=DATE-TIME:20240505T100000
DTEND;TZID=Europe/Madrid;VALUE=DATE-TIME:20240505T110000
DTSTAMP;VALUE=DATE-TIME:20260422T151323Z
UID:d0e19ac11182aa1050d77356a7641fa2
CREATED;VALUE=DATE-TIME:20240505T000000Z
LOCATION:Casa museu Lluís Domènech i Montaner
ORGANIZER:Àrea de Cultura -.Ajuntament de Canet de Mar
COMMENT:Preu: Gratuït
Durada: De 10.00 a 14.00 hores
URL:https://www.canetdemar.cat/document.php?id=25022
END:VEVENT
END:VCALENDAR