BEGIN:VCALENDAR
VERSION:2.0
PRODID:-//Plone.org//NONSGML plone.app.event//EN
X-WR-TIMEZONE:Europe/Madrid
BEGIN:VEVENT
SUMMARY:Exposició de Núria Genís
DTSTART;TZID=Europe/Madrid;VALUE=DATE-TIME:20030403T000000
DTEND;TZID=Europe/Madrid;VALUE=DATE-TIME:20030403T010000
DTSTAMP;VALUE=DATE-TIME:20260425T191735Z
UID:d8e8bbf6738f52183db207cfbfdffb52
CREATED;VALUE=DATE-TIME:20030403T000000Z
DESCRIPTION:Des del 21 de març fins al 3 d'abril
URL:https://www.canetdemar.cat/document.php?id=250
END:VEVENT
END:VCALENDAR