BEGIN:VCALENDAR
VERSION:2.0
PRODID:-//Plone.org//NONSGML plone.app.event//EN
X-WR-TIMEZONE:Europe/Madrid
BEGIN:VEVENT
SUMMARY:Concert de Cant Coral
DTSTART;TZID=Europe/Madrid;VALUE=DATE-TIME:20020909T220000
DTEND;TZID=Europe/Madrid;VALUE=DATE-TIME:20020909T230000
DTSTAMP;VALUE=DATE-TIME:20260424T225518Z
UID:b59116eda48239b629c8c12de167593b
CREATED;VALUE=DATE-TIME:20020909T000000Z
URL:https://www.canetdemar.cat/document.php?id=25
END:VEVENT
END:VCALENDAR