BEGIN:VCALENDAR
VERSION:2.0
PRODID:-//Plone.org//NONSGML plone.app.event//EN
X-WR-TIMEZONE:Europe/Madrid
BEGIN:VEVENT
SUMMARY:Reunió amb un veí
DTSTART;TZID=Europe/Madrid;VALUE=DATE-TIME:20240222T100000
DTEND;TZID=Europe/Madrid;VALUE=DATE-TIME:20240222T110000
DTSTAMP;VALUE=DATE-TIME:20260425T004558Z
UID:36ee6202472b75ad12d4487dd0dbe0bb
CREATED;VALUE=DATE-TIME:20240222T000000Z
CATEGORIES:Agenda institucional
LOCATION:Despatx d'alcaldia - carrer Ample, 11
URL:https://www.canetdemar.cat/document.php?id=24995
END:VEVENT
END:VCALENDAR