BEGIN:VCALENDAR
VERSION:2.0
PRODID:-//Plone.org//NONSGML plone.app.event//EN
X-WR-TIMEZONE:Europe/Madrid
BEGIN:VEVENT
SUMMARY:IV Festa Skalocal
DTSTART;TZID=Europe/Madrid;VALUE=DATE-TIME:20060908T220000
DTEND;TZID=Europe/Madrid;VALUE=DATE-TIME:20060908T230000
DTSTAMP;VALUE=DATE-TIME:20260424T112241Z
UID:bb6fbf4de4a8e30677c17a16d3191284
CREATED;VALUE=DATE-TIME:20060908T000000Z
LOCATION:Passeig Marítim
ORGANIZER:Adak i àrees de Cultura i Joventut
DESCRIPTION:viu-la i explica-la als néts
URL:https://www.canetdemar.cat/document.php?id=2498
END:VEVENT
END:VCALENDAR