BEGIN:VCALENDAR
VERSION:2.0
PRODID:-//Plone.org//NONSGML plone.app.event//EN
X-WR-TIMEZONE:Europe/Madrid
BEGIN:VEVENT
SUMMARY:Assistència a la Rua de Carnaval de les escoles
DTSTART;TZID=Europe/Madrid;VALUE=DATE-TIME:20240209T161500
DTEND;TZID=Europe/Madrid;VALUE=DATE-TIME:20240209T171500
DTSTAMP;VALUE=DATE-TIME:20260425T022202Z
UID:6b0e6cb02a47ddf545ef454256919583
CREATED;VALUE=DATE-TIME:20240209T000000Z
CATEGORIES:Agenda institucional
LOCATION:Plaça Universitat
URL:https://www.canetdemar.cat/document.php?id=24959
END:VEVENT
END:VCALENDAR