BEGIN:VCALENDAR
VERSION:2.0
PRODID:-//Plone.org//NONSGML plone.app.event//EN
X-WR-TIMEZONE:Europe/Madrid
BEGIN:VEVENT
SUMMARY:Assistència i entrega de premis de la XXVIII Edició del Cros de Canet de Mar
DTSTART;TZID=Europe/Madrid;VALUE=DATE-TIME:20240204T120000
DTEND;TZID=Europe/Madrid;VALUE=DATE-TIME:20240204T130000
DTSTAMP;VALUE=DATE-TIME:20260425T022044Z
UID:f54599e424a31ccdea359203333787eb
CREATED;VALUE=DATE-TIME:20240204T000000Z
CATEGORIES:Agenda institucional
LOCATION:Poligon Industrial de Can Misser
URL:https://www.canetdemar.cat/document.php?id=24932
END:VEVENT
END:VCALENDAR