BEGIN:VCALENDAR
VERSION:2.0
PRODID:-//Plone.org//NONSGML plone.app.event//EN
X-WR-TIMEZONE:Europe/Madrid
BEGIN:VEVENT
SUMMARY:BALL Infantil de Carnaval
DTSTART;TZID=Europe/Madrid;VALUE=DATE-TIME:20240211T120000
DTEND;TZID=Europe/Madrid;VALUE=DATE-TIME:20240211T130000
DTSTAMP;VALUE=DATE-TIME:20260423T114723Z
UID:102819a599f965bb44c1825809d0b180
CREATED;VALUE=DATE-TIME:20240211T000000Z
CATEGORIES:Festa,Infantils
ORGANIZER:Àrea de Festes
DESCRIPTION:Carnaval 2024
URL:https://www.canetdemar.cat/document.php?id=24916
END:VEVENT
END:VCALENDAR