BEGIN:VCALENDAR
VERSION:2.0
PRODID:-//Plone.org//NONSGML plone.app.event//EN
X-WR-TIMEZONE:Europe/Madrid
BEGIN:VEVENT
SUMMARY:Reunió Urbanisme
DTSTART;TZID=Europe/Madrid;VALUE=DATE-TIME:20240130T113000
DTEND;TZID=Europe/Madrid;VALUE=DATE-TIME:20240130T123000
DTSTAMP;VALUE=DATE-TIME:20260423T015322Z
UID:f251ecea058a1df1888d19e09344afdd
CREATED;VALUE=DATE-TIME:20240130T000000Z
CATEGORIES:Agenda institucional
LOCATION:Despatx d'alcaldia - Carrer Ample, 11
URL:https://www.canetdemar.cat/document.php?id=24893
END:VEVENT
END:VCALENDAR