BEGIN:VCALENDAR
VERSION:2.0
PRODID:-//Plone.org//NONSGML plone.app.event//EN
X-WR-TIMEZONE:Europe/Madrid
BEGIN:VEVENT
SUMMARY:Visita guiada: Modernisme i Vitralls
DTSTART;TZID=Europe/Madrid;VALUE=DATE-TIME:20240323T120000
DTEND;TZID=Europe/Madrid;VALUE=DATE-TIME:20240323T130000
DTSTAMP;VALUE=DATE-TIME:20260424T102215Z
UID:5ad4123f4290c7b7d33d876491fe93db
CREATED;VALUE=DATE-TIME:20240323T000000Z
LOCATION:Punt de trobada: Casa museu Lluís Domènech i Montaner
ORGANIZER:Àrea de Cultura - Ajuntament de Canet de Mar
COMMENT:Preu: 10&euro; (descompte jubilats, carnet de biblioteca i estudiants 6&euro;)
Durada: 1h 30'
URL:https://www.canetdemar.cat/document.php?id=24839
END:VEVENT
END:VCALENDAR