BEGIN:VCALENDAR
VERSION:2.0
PRODID:-//Plone.org//NONSGML plone.app.event//EN
X-WR-TIMEZONE:Europe/Madrid
BEGIN:VEVENT
SUMMARY:Casament civil
DTSTART;TZID=Europe/Madrid;VALUE=DATE-TIME:20240119T130000
DTEND;TZID=Europe/Madrid;VALUE=DATE-TIME:20240119T140000
DTSTAMP;VALUE=DATE-TIME:20260423T190036Z
UID:1942fbbd0b46c560d3260b040c66dee3
CREATED;VALUE=DATE-TIME:20240119T000000Z
CATEGORIES:Agenda institucional
LOCATION:Sala de plens - Carrer Ample, 11
URL:https://www.canetdemar.cat/document.php?id=24836
END:VEVENT
END:VCALENDAR