BEGIN:VCALENDAR
VERSION:2.0
PRODID:-//Plone.org//NONSGML plone.app.event//EN
X-WR-TIMEZONE:Europe/Madrid
BEGIN:VEVENT
SUMMARY:Casament civil
DTSTART;TZID=Europe/Madrid;VALUE=DATE-TIME:20240113T120000
DTEND;TZID=Europe/Madrid;VALUE=DATE-TIME:20240113T130000
DTSTAMP;VALUE=DATE-TIME:20260423T132928Z
UID:c5396383462139bded5283e747e72075
CREATED;VALUE=DATE-TIME:20240113T000000Z
CATEGORIES:Agenda institucional
LOCATION:Sala de plens - Carrer Ample, 11
URL:https://www.canetdemar.cat/document.php?id=24828
END:VEVENT
END:VCALENDAR