BEGIN:VCALENDAR
VERSION:2.0
PRODID:-//Plone.org//NONSGML plone.app.event//EN
X-WR-TIMEZONE:Europe/Madrid
BEGIN:VEVENT
SUMMARY:Teatre: El Substitut
DTSTART;TZID=Europe/Madrid;VALUE=DATE-TIME:20240630T180000
DTEND;TZID=Europe/Madrid;VALUE=DATE-TIME:20240630T190000
DTSTAMP;VALUE=DATE-TIME:20260423T103918Z
UID:fbe7c881165d40a96d208f0c040cbb08
CREATED;VALUE=DATE-TIME:20240630T000000Z
CATEGORIES:Teatre
LOCATION:TMC Odèon
ORGANIZER:TMC
COMMENT:Preu: Taquilla: 15&euro; Anticipada: 13 &euro;
Durada: 60 minuts
DESCRIPTION:Pep Plaza
URL:https://www.canetdemar.cat/document.php?id=24807
END:VEVENT
END:VCALENDAR