BEGIN:VCALENDAR
VERSION:2.0
PRODID:-//Plone.org//NONSGML plone.app.event//EN
X-WR-TIMEZONE:Europe/Madrid
BEGIN:VEVENT
SUMMARY:Concerto a Tempo d'umore
DTSTART;TZID=Europe/Madrid;VALUE=DATE-TIME:20240323T000000
DTEND;TZID=Europe/Madrid;VALUE=DATE-TIME:20240323T010000
DTSTAMP;VALUE=DATE-TIME:20260424T102019Z
UID:74ec9733269756636a9c9198c27a6dd2
CREATED;VALUE=DATE-TIME:20240323T000000Z
CATEGORIES:Música
LOCATION:TMC Odèon
ORGANIZER:TMC
COMMENT:Preu: Taquilla: 12&euro; Anticipada: 10 &euro; Abonament: 3TA (3 espectacles de 12&euro;  taquilla: 25 &euro;)
Durada: 70 minuts
DESCRIPTION:Orthemis Orchestra
URL:https://www.canetdemar.cat/document.php?id=24797
END:VEVENT
END:VCALENDAR