BEGIN:VCALENDAR
VERSION:2.0
PRODID:-//Plone.org//NONSGML plone.app.event//EN
X-WR-TIMEZONE:Europe/Madrid
BEGIN:VEVENT
SUMMARY:Concert: Dona Veu
DTSTART;TZID=Europe/Madrid;VALUE=DATE-TIME:20240309T203000
DTEND;TZID=Europe/Madrid;VALUE=DATE-TIME:20240309T213000
DTSTAMP;VALUE=DATE-TIME:20260426T064057Z
UID:b182792886d69b7ab4b9a1d89ec34e45
CREATED;VALUE=DATE-TIME:20240309T000000Z
CATEGORIES:Música
LOCATION:TMC Odèon
ORGANIZER:TMC
COMMENT:Preu: Taquilla: 15 &euro;. Anticipada: 13 &euro; Abonament 3TB (3 espectacles de 15&euro;  taquilla: 30 &euro;)
Durada: 80 minuts
DESCRIPTION:Ombra Ensemble + Mediterranean Guests
URL:https://www.canetdemar.cat/document.php?id=24796
END:VEVENT
END:VCALENDAR