BEGIN:VCALENDAR
VERSION:2.0
PRODID:-//Plone.org//NONSGML plone.app.event//EN
X-WR-TIMEZONE:Europe/Madrid
BEGIN:VEVENT
SUMMARY:Teatre: CYR@NO
DTSTART;TZID=Europe/Madrid;VALUE=DATE-TIME:20240302T180000
DTEND;TZID=Europe/Madrid;VALUE=DATE-TIME:20240302T190000
DTSTAMP;VALUE=DATE-TIME:20260425T121647Z
UID:b2e87488767391bf55038c188390bd09
CREATED;VALUE=DATE-TIME:20240302T000000Z
CATEGORIES:Teatre
LOCATION:TMC-Sala Centru
ORGANIZER:ASSOCIACIÓ ARTÍSTICA TEATRAL EL CENTRU DE CANET DE MAR
DESCRIPTION:50è CONCURS DE TEATRE AMATEUR PREMI PEDRACASTELL 2024
URL:https://www.canetdemar.cat/document.php?id=24789
END:VEVENT
END:VCALENDAR