BEGIN:VCALENDAR
VERSION:2.0
PRODID:-//Plone.org//NONSGML plone.app.event//EN
X-WR-TIMEZONE:Europe/Madrid
BEGIN:VEVENT
SUMMARY:Teatre: Un mort darrerra la porta
DTSTART;TZID=Europe/Madrid;VALUE=DATE-TIME:20240114T180000
DTEND;TZID=Europe/Madrid;VALUE=DATE-TIME:20240114T190000
DTSTAMP;VALUE=DATE-TIME:20260423T190649Z
UID:f99f4f802bbf1875dffd8a042b776eea
CREATED;VALUE=DATE-TIME:20240114T000000Z
CATEGORIES:Teatre
LOCATION:TMC-Sala Centru
ORGANIZER:ASSOCIACIÓ ARTÍSTICA TEATRAL EL CENTRU DE CANET DE MAR
DESCRIPTION:50è CONCURS DE TEATRE AMATEUR PREMI PEDRACASTELL 2024
URL:https://www.canetdemar.cat/document.php?id=24782
END:VEVENT
END:VCALENDAR