BEGIN:VCALENDAR
VERSION:2.0
PRODID:-//Plone.org//NONSGML plone.app.event//EN
X-WR-TIMEZONE:Europe/Madrid
BEGIN:VEVENT
SUMMARY:Emissió del missatge institucional de Cap d'Any de l'alcalde
DTSTART;TZID=Europe/Madrid;VALUE=DATE-TIME:20231231T200000
DTEND;TZID=Europe/Madrid;VALUE=DATE-TIME:20231231T210000
DTSTAMP;VALUE=DATE-TIME:20260423T014538Z
UID:34a12cac67d17fe34e545758169e695f
CREATED;VALUE=DATE-TIME:20231231T000000Z
CATEGORIES:Agenda institucional
LOCATION:Ràdio Canet de Mar - 107.6 FM
URL:https://www.canetdemar.cat/document.php?id=24769
END:VEVENT
END:VCALENDAR