BEGIN:VCALENDAR
VERSION:2.0
PRODID:-//Plone.org//NONSGML plone.app.event//EN
X-WR-TIMEZONE:Europe/Madrid
BEGIN:VEVENT
SUMMARY:Recepció expresident Joaquim Torra
DTSTART;TZID=Europe/Madrid;VALUE=DATE-TIME:20231228T110000
DTEND;TZID=Europe/Madrid;VALUE=DATE-TIME:20231228T120000
DTSTAMP;VALUE=DATE-TIME:20260423T051105Z
UID:f590ed17f26f34cc0986ba70ff1db877
CREATED;VALUE=DATE-TIME:20231228T000000Z
CATEGORIES:Agenda institucional
LOCATION:Casa Museu Lluís Domènech i Montaner
URL:https://www.canetdemar.cat/document.php?id=24765
END:VEVENT
END:VCALENDAR