BEGIN:VCALENDAR
VERSION:2.0
PRODID:-//Plone.org//NONSGML plone.app.event//EN
X-WR-TIMEZONE:Europe/Madrid
BEGIN:VEVENT
SUMMARY:Fira d'artesania
DTSTART;TZID=Europe/Madrid;VALUE=DATE-TIME:20240928T100000
DTEND;TZID=Europe/Madrid;VALUE=DATE-TIME:20240928T110000
DTSTAMP;VALUE=DATE-TIME:20260423T083520Z
UID:c5f56ecd3b3f2acb49646be9c6c5bbec
CREATED;VALUE=DATE-TIME:20240928T000000Z
CATEGORIES:Mostra
LOCATION:Riera Sant Domènec i Riera Buscarons
ORGANIZER:Mares Malabaristes i Àrea de Promoció Econòmica
COMMENT:Durada: De 10 a 21 hores
URL:https://www.canetdemar.cat/document.php?id=24758
END:VEVENT
END:VCALENDAR