BEGIN:VCALENDAR
VERSION:2.0
PRODID:-//Plone.org//NONSGML plone.app.event//EN
X-WR-TIMEZONE:Europe/Madrid
BEGIN:VEVENT
SUMMARY:Junta de Govern Local
DTSTART;TZID=Europe/Madrid;VALUE=DATE-TIME:20231221T170000
DTEND;TZID=Europe/Madrid;VALUE=DATE-TIME:20231221T180000
DTSTAMP;VALUE=DATE-TIME:20260423T032000Z
UID:c07892280f479377bc3d271b10d91013
CREATED;VALUE=DATE-TIME:20231221T000000Z
CATEGORIES:Agenda institucional
LOCATION:Sala annexa Alcaldia
URL:https://www.canetdemar.cat/document.php?id=24741
END:VEVENT
END:VCALENDAR