BEGIN:VCALENDAR
VERSION:2.0
PRODID:-//Plone.org//NONSGML plone.app.event//EN
X-WR-TIMEZONE:Europe/Madrid
BEGIN:VEVENT
SUMMARY:Visita institucional a la Residència Guillem Mas
DTSTART;TZID=Europe/Madrid;VALUE=DATE-TIME:20231219T110000
DTEND;TZID=Europe/Madrid;VALUE=DATE-TIME:20231219T120000
DTSTAMP;VALUE=DATE-TIME:20260421T210436Z
UID:4cbea3fa6d1e055e3162332f367932d0
CREATED;VALUE=DATE-TIME:20231219T000000Z
CATEGORIES:Agenda institucional
LOCATION:Residència Guillem Mas
URL:https://www.canetdemar.cat/document.php?id=24732
END:VEVENT
END:VCALENDAR