BEGIN:VCALENDAR
VERSION:2.0
PRODID:-//Plone.org//NONSGML plone.app.event//EN
X-WR-TIMEZONE:Europe/Madrid
BEGIN:VEVENT
SUMMARY:Assistència a la representació escolar a la Sala Odèon
DTSTART;TZID=Europe/Madrid;VALUE=DATE-TIME:20231214T093000
DTEND;TZID=Europe/Madrid;VALUE=DATE-TIME:20231214T103000
DTSTAMP;VALUE=DATE-TIME:20260423T220959Z
UID:c328b9dbc4c2a9cd4aaf16b6bb665091
CREATED;VALUE=DATE-TIME:20231214T000000Z
CATEGORIES:Agenda institucional
LOCATION:Sala Odèon del TMC
URL:https://www.canetdemar.cat/document.php?id=24719
END:VEVENT
END:VCALENDAR