BEGIN:VCALENDAR
VERSION:2.0
PRODID:-//Plone.org//NONSGML plone.app.event//EN
X-WR-TIMEZONE:Europe/Madrid
BEGIN:VEVENT
SUMMARY:La Kanetenca
DTSTART;TZID=Europe/Madrid;VALUE=DATE-TIME:20231231T100000
DTEND;TZID=Europe/Madrid;VALUE=DATE-TIME:20231231T110000
DTSTAMP;VALUE=DATE-TIME:20260426T014729Z
UID:bfe0e3d45c85666d0f9d1594a30cdb41
CREATED;VALUE=DATE-TIME:20231231T000000Z
LOCATION:Sortida Riera Sant Domènec
ORGANIZER:GEA XXI amb la col·laboració de l'Ajuntament de Canet de Mar, Moixons Llepafils i Consell Esportiu del Maresme
COMMENT:Preu: 10 euros
DESCRIPTION:En benefici de Les Casetes dels Garrofers
URL:https://www.canetdemar.cat/document.php?id=24682
END:VEVENT
END:VCALENDAR