BEGIN:VCALENDAR
VERSION:2.0
PRODID:-//Plone.org//NONSGML plone.app.event//EN
X-WR-TIMEZONE:Europe/Madrid
BEGIN:VEVENT
SUMMARY:Taller de fanalets de Reis
DTSTART;TZID=Europe/Madrid;VALUE=DATE-TIME:20240105T110000
DTEND;TZID=Europe/Madrid;VALUE=DATE-TIME:20240105T120000
DTSTAMP;VALUE=DATE-TIME:20260423T070823Z
UID:4acc0c2e437e5065adaa00d8994c490d
CREATED;VALUE=DATE-TIME:20240105T000000Z
CATEGORIES:Festa,Infantils
LOCATION:Plaça mercat
ORGANIZER:Associació de Venedors de la Plaça Mercat
DESCRIPTION:ACTES FESTES DE NADAL
URL:https://www.canetdemar.cat/document.php?id=24675
END:VEVENT
END:VCALENDAR