BEGIN:VCALENDAR
VERSION:2.0
PRODID:-//Plone.org//NONSGML plone.app.event//EN
X-WR-TIMEZONE:Europe/Madrid
BEGIN:VEVENT
SUMMARY:Trobada amb regidores i regidors de Promoció Econòmica del Maresme
DTSTART;TZID=Europe/Madrid;VALUE=DATE-TIME:20231214T100000
DTEND;TZID=Europe/Madrid;VALUE=DATE-TIME:20231214T110000
DTSTAMP;VALUE=DATE-TIME:20260423T203338Z
UID:ddaeb0e6b1c1636763d6445055b47b21
CREATED;VALUE=DATE-TIME:20231214T000000Z
CATEGORIES:Agenda institucional
LOCATION:Aula Magna CRTTT - Escola de Teixits
URL:https://www.canetdemar.cat/document.php?id=24650
END:VEVENT
END:VCALENDAR