BEGIN:VCALENDAR
VERSION:2.0
PRODID:-//Plone.org//NONSGML plone.app.event//EN
X-WR-TIMEZONE:Europe/Madrid
BEGIN:VEVENT
SUMMARY:Reunió amb un veí del poble
DTSTART;TZID=Europe/Madrid;VALUE=DATE-TIME:20231211T110000
DTEND;TZID=Europe/Madrid;VALUE=DATE-TIME:20231211T120000
DTSTAMP;VALUE=DATE-TIME:20260424T070357Z
UID:3e1024e7012a8688367623dd445de119
CREATED;VALUE=DATE-TIME:20231211T000000Z
CATEGORIES:Agenda institucional
LOCATION:Despatx d'Alcaldia
URL:https://www.canetdemar.cat/document.php?id=24644
END:VEVENT
END:VCALENDAR