BEGIN:VCALENDAR
VERSION:2.0
PRODID:-//Plone.org//NONSGML plone.app.event//EN
X-WR-TIMEZONE:Europe/Madrid
BEGIN:VEVENT
SUMMARY:Recepció institucional Pubilla de Catalunya
DTSTART;TZID=Europe/Madrid;VALUE=DATE-TIME:20231201T180000
DTEND;TZID=Europe/Madrid;VALUE=DATE-TIME:20231201T190000
DTSTAMP;VALUE=DATE-TIME:20260423T102126Z
UID:db9b0ff661722e3ae8f630c15d9b0961
CREATED;VALUE=DATE-TIME:20231201T000000Z
CATEGORIES:Agenda institucional
LOCATION:Sala de plens
URL:https://www.canetdemar.cat/document.php?id=24635
END:VEVENT
END:VCALENDAR