BEGIN:VCALENDAR
VERSION:2.0
PRODID:-//Plone.org//NONSGML plone.app.event//EN
X-WR-TIMEZONE:Europe/Madrid
BEGIN:VEVENT
SUMMARY:Taller de decoració de galetes de Nadal
DTSTART;TZID=Europe/Madrid;VALUE=DATE-TIME:20231210T170000
DTEND;TZID=Europe/Madrid;VALUE=DATE-TIME:20231210T180000
DTSTAMP;VALUE=DATE-TIME:20260423T153424Z
UID:feaea609f9855be84a9d678d91f2cc77
CREATED;VALUE=DATE-TIME:20231210T000000Z
CATEGORIES:Infantils
ORGANIZER:Àrea d'Educació i FEDAC
COMMENT:Durada: 2 hores
DESCRIPTION:Acte en benefici de la Marató de TV3
URL:https://www.canetdemar.cat/document.php?id=24626
END:VEVENT
END:VCALENDAR