BEGIN:VCALENDAR
VERSION:2.0
PRODID:-//Plone.org//NONSGML plone.app.event//EN
X-WR-TIMEZONE:Europe/Madrid
BEGIN:VEVENT
SUMMARY:Fem cagar el TIÓ: Troba el Tió mòbil 
DTSTART;TZID=Europe/Madrid;VALUE=DATE-TIME:20231223T110000
DTEND;TZID=Europe/Madrid;VALUE=DATE-TIME:20231223T120000
DTSTAMP;VALUE=DATE-TIME:20260424T194855Z
UID:e79bddcdbe6881d239fdfd85b7e2e23f
CREATED;VALUE=DATE-TIME:20231223T000000Z
CATEGORIES:Festa
ORGANIZER:Àrea de Promoció Econòmica, Associació Canet Comerç i Associació Venedors Plaça Mercat
COMMENT:Durada: 2 hores
DESCRIPTION:ACTES FESTES DE NADAL
URL:https://www.canetdemar.cat/document.php?id=24618
END:VEVENT
END:VCALENDAR