BEGIN:VCALENDAR
VERSION:2.0
PRODID:-//Plone.org//NONSGML plone.app.event//EN
X-WR-TIMEZONE:Europe/Madrid
BEGIN:VEVENT
SUMMARY:CINEMA: Chocolat 
DTSTART;TZID=Europe/Madrid;VALUE=DATE-TIME:20231214T210000
DTEND;TZID=Europe/Madrid;VALUE=DATE-TIME:20231214T220000
DTSTAMP;VALUE=DATE-TIME:20260424T084022Z
UID:5fbe66e1aa94a953746be9284192e072
CREATED;VALUE=DATE-TIME:20231214T000000Z
CATEGORIES:Cinema
LOCATION:Sala Centru del TMC
ORGANIZER:Associació Cultural Plataforma Odèon - ACPO
DESCRIPTION:Actes inauguració teatre Odèon
URL:https://www.canetdemar.cat/document.php?id=24608
END:VEVENT
END:VCALENDAR