BEGIN:VCALENDAR
VERSION:2.0
PRODID:-//Plone.org//NONSGML plone.app.event//EN
X-WR-TIMEZONE:Europe/Madrid
BEGIN:VEVENT
SUMMARY:CUINA SOSTENIBLE | Taller de reaprofitament alimentari
DTSTART;TZID=Europe/Madrid;VALUE=DATE-TIME:20231209T110000
DTEND;TZID=Europe/Madrid;VALUE=DATE-TIME:20231209T120000
DTSTAMP;VALUE=DATE-TIME:20260423T014608Z
UID:4afdfc01f9e4987c0d35263f7b5607cc
CREATED;VALUE=DATE-TIME:20231209T000000Z
LOCATION:Plaça Mercat
ORGANIZER:Àrees de Promoció Econòmica i Medi Ambient
COMMENT:Preu: Gratuït
URL:https://www.canetdemar.cat/document.php?id=24583
END:VEVENT
END:VCALENDAR