BEGIN:VCALENDAR
VERSION:2.0
PRODID:-//Plone.org//NONSGML plone.app.event//EN
X-WR-TIMEZONE:Europe/Madrid
BEGIN:VEVENT
SUMMARY:Reunió amb el representant d'una entitat esportiva del poble
DTSTART;TZID=Europe/Madrid;VALUE=DATE-TIME:20231123T130000
DTEND;TZID=Europe/Madrid;VALUE=DATE-TIME:20231123T140000
DTSTAMP;VALUE=DATE-TIME:20260422T221412Z
UID:d548195d41a272cbd2306ca9d7f7fc06
CREATED;VALUE=DATE-TIME:20231123T000000Z
CATEGORIES:Agenda institucional
LOCATION:Sala annexa Alcaldia - Carrer Ample, 11
URL:https://www.canetdemar.cat/document.php?id=24550
END:VEVENT
END:VCALENDAR